BEGIN:VCALENDAR
VERSION:2.0
PRODID:-//AudioTheme 3.0.2
BEGIN:VEVENT
UID:urn:uuid:bce7c9a1-f730-41a0-b394-f4858dc1d428
URL:https://thegravamen.mightyjoecastro.com/shows/the-war3hous3-swarthmore-pa/
DTSTART;TZID=GMT:20230212T000000
SUMMARY:The War3hous3 / Swarthmore, PA
DESCRIPTION:with Red Desert Motel
LOCATION:War3house 3\, 100 Park Ave\, WH-3\, Swarthmore\, PA\, US\, 19081
END:VEVENT
END:VCALENDAR
