BEGIN:VCALENDAR
VERSION:2.0
PRODID:-//AudioTheme 3.0.2
BEGIN:VEVENT
UID:urn:uuid:05aa053d-b3ef-4849-84de-177b3b21651b
URL:https://thegravamen.mightyjoecastro.com/shows/oddity-bar-rockabilly-psychobilly-blowout/
DTSTART;TZID=GMT:20230527T010000
SUMMARY:Oddity Bar Rockabilly Psychobilly Blowout
DESCRIPTION:w/ One Revived + Gunsmoke Sinners
LOCATION:Oddity Bar\, 500 Greenhill Ave\, WIlmington\, De\, US\, 19805
END:VEVENT
END:VCALENDAR
