BEGIN:VCALENDAR
VERSION:2.0
PRODID:-//AudioTheme 3.0.2
BEGIN:VEVENT
UID:urn:uuid:6905bad2-b1c9-43c5-97d8-27176409d059
URL:https://thegravamen.mightyjoecastro.com/shows/hamburg-music-fest/
DTSTART;TZID=GMT:20260613T160000
SUMMARY:Hamburg Music Fest
DESCRIPTION:w/ Soraia\, Anthophobia and more
LOCATION:Hamburg Music Fest\, 222 State St\, Hamburg\, PA\, 19526
END:VEVENT
END:VCALENDAR
